{
 "documentInfo": {
  "Category": "",
  "Keywords": "",
  "Version": "10.1",
  "Comments": "",
  "AntialiasingMode": "None",
  "Title": "mchenry_base",
  "Author": "Angie",
  "TextAntialiasingMode": "Force",
  "Subject": ""
 },
 "maxImageWidth": 4096,
 "wmtsScaleFactor": 0.00091863333333344881,
 "maxRecordCount": 1000,
 "tileInfo": {
  "lods": [
   {
    "level": 0,
    "scale": 2311160,
    "resolution": 2006.2152777777776
   },
   {
    "level": 1,
    "scale": 1155580,
    "resolution": 1003.1076388888888
   },
   {
    "level": 2,
    "scale": 577790,
    "resolution": 501.5538194444444
   },
   {
    "level": 3,
    "scale": 288895,
    "resolution": 250.7769097222222
   },
   {
    "level": 4,
    "scale": 144447,
    "resolution": 125.38802083333333
   },
   {
    "level": 5,
    "scale": 72223,
    "resolution": 62.693576388888886
   },
   {
    "level": 6,
    "scale": 36111,
    "resolution": 31.346354166666664
   },
   {
    "level": 7,
    "scale": 18055,
    "resolution": 15.672743055555555
   },
   {
    "level": 8,
    "scale": 9027,
    "resolution": 7.8359375
   },
   {
    "level": 9,
    "scale": 4513,
    "resolution": 3.9175347222222219
   },
   {
    "level": 10,
    "scale": 2256,
    "resolution": 1.9583333333333333
   },
   {
    "level": 11,
    "scale": 1128,
    "resolution": 0.97916666666666663
   },
   {
    "level": 12,
    "scale": 600,
    "resolution": 0.52083333333333326
   }
  ],
  "origin": {
   "x": 707901.31799999997,
   "y": 2250741.8139999998
  },
  "format": "PNG32",
  "compressionQuality": 0,
  "rows": 256,
  "dpi": 96,
  "spatialReference": {
   "falseM": -100000,
   "xyTolerance": 0.0032808333333333335,
   "mUnits": 10000,
   "zUnits": 400000,
   "latestWkid": 3435,
   "zTolerance": 0.000020000000000000002,
   "wkid": 102671,
   "xyUnits": 137244822.078465521,
   "mTolerance": 0.001,
   "falseX": -17463800,
   "falseY": -46132600,
   "falseZ": 0
  },
  "cols": 256
 },
 "description": "",
 "datesInUnknownTimezone": false,
 "supportsQueryDomains": true,
 "units": "esriFeet",
 "maxSelectionCount": 2000,
 "supportedImageFormatTypes": "PNG32,PNG24,PNG,JPG,DIB,TIFF,EMF,PS,PDF,GIF,SVG,SVGZ,BMP",
 "supportsClipping": true,
 "exportTilesAllowed": false,
 "maxImageHeight": 4096,
 "tables": [],
 "hasVersionedData": true,
 "supportsDatumTransformation": true,
 "cimVersion": "3.7.0",
 "supportsQueryDataElements": true,
 "layers": [
  {
   "subLayerIds": [
    1,
    2
   ],
   "maxScale": 0,
   "name": "CorpNames",
   "defaultVisibility": true,
   "id": 0,
   "minScale": 0,
   "supportsDynamicLegends": false,
   "type": "Annotation Layer",
   "parentLayerId": -1,
   "geometryType": "esriGeometryPolygon"
  },
  {
   "subLayerIds": null,
   "maxScale": 0,
   "name": "100 Scale",
   "defaultVisibility": true,
   "id": 1,
   "minScale": 2400,
   "supportsDynamicLegends": false,
   "parentLayerId": 0
  },
  {
   "subLayerIds": null,
   "maxScale": 2400,
   "name": "400 Scale",
   "defaultVisibility": true,
   "id": 2,
   "minScale": 9017,
   "supportsDynamicLegends": false,
   "parentLayerId": 0
  },
  {
   "subLayerIds": null,
   "maxScale": 0,
   "name": "Township Highway Department",
   "defaultVisibility": true,
   "id": 3,
   "minScale": 37000,
   "supportsDynamicLegends": true,
   "type": "Feature Layer",
   "parentLayerId": -1,
   "geometryType": "esriGeometryPoint"
  },
  {
   "subLayerIds": null,
   "maxScale": 0,
   "name": "Township Adminstration Building",
   "defaultVisibility": true,
   "id": 4,
   "minScale": 37000,
   "supportsDynamicLegends": true,
   "type": "Feature Layer",
   "parentLayerId": -1,
   "geometryType": "esriGeometryPoint"
  },
  {
   "subLayerIds": null,
   "maxScale": 0,
   "name": "Swimming Pool",
   "defaultVisibility": true,
   "id": 5,
   "minScale": 10000,
   "supportsDynamicLegends": true,
   "type": "Feature Layer",
   "parentLayerId": -1,
   "geometryType": "esriGeometryPoint"
  },
  {
   "subLayerIds": null,
   "maxScale": 0,
   "name": "Police Station",
   "defaultVisibility": true,
   "id": 6,
   "minScale": 10000,
   "supportsDynamicLegends": true,
   "type": "Feature Layer",
   "parentLayerId": -1,
   "geometryType": "esriGeometryPoint"
  },
  {
   "subLayerIds": null,
   "maxScale": 0,
   "name": "Fire Station",
   "defaultVisibility": true,
   "id": 7,
   "minScale": 10000,
   "supportsDynamicLegends": true,
   "type": "Feature Layer",
   "parentLayerId": -1,
   "geometryType": "esriGeometryPoint"
  },
  {
   "subLayerIds": null,
   "maxScale": 0,
   "name": "County Campus",
   "defaultVisibility": true,
   "id": 8,
   "minScale": 37000,
   "supportsDynamicLegends": true,
   "type": "Feature Layer",
   "parentLayerId": -1,
   "geometryType": "esriGeometryPoint"
  },
  {
   "subLayerIds": null,
   "maxScale": 0,
   "name": "Cemetery",
   "defaultVisibility": true,
   "id": 9,
   "minScale": 10000,
   "supportsDynamicLegends": true,
   "type": "Feature Layer",
   "parentLayerId": -1,
   "geometryType": "esriGeometryPoint"
  },
  {
   "subLayerIds": null,
   "maxScale": 0,
   "name": "Long Term Care Centers",
   "defaultVisibility": true,
   "id": 10,
   "minScale": 10000,
   "supportsDynamicLegends": true,
   "type": "Feature Layer",
   "parentLayerId": -1,
   "geometryType": "esriGeometryPoint"
  },
  {
   "subLayerIds": null,
   "maxScale": 0,
   "name": "Hospital",
   "defaultVisibility": true,
   "id": 11,
   "minScale": 10000,
   "supportsDynamicLegends": true,
   "type": "Feature Layer",
   "parentLayerId": -1,
   "geometryType": "esriGeometryPoint"
  },
  {
   "subLayerIds": null,
   "maxScale": 0,
   "name": "Post Office",
   "defaultVisibility": true,
   "id": 12,
   "minScale": 10000,
   "supportsDynamicLegends": true,
   "type": "Feature Layer",
   "parentLayerId": -1,
   "geometryType": "esriGeometryPoint"
  },
  {
   "subLayerIds": null,
   "maxScale": 0,
   "name": "Library",
   "defaultVisibility": true,
   "id": 13,
   "minScale": 37000,
   "supportsDynamicLegends": true,
   "type": "Feature Layer",
   "parentLayerId": -1,
   "geometryType": "esriGeometryPoint"
  },
  {
   "subLayerIds": null,
   "maxScale": 0,
   "name": "Hotel",
   "defaultVisibility": true,
   "id": 14,
   "minScale": 10000,
   "supportsDynamicLegends": true,
   "type": "Feature Layer",
   "parentLayerId": -1,
   "geometryType": "esriGeometryPoint"
  },
  {
   "subLayerIds": null,
   "maxScale": 0,
   "name": "Museum",
   "defaultVisibility": true,
   "id": 15,
   "minScale": 10000,
   "supportsDynamicLegends": true,
   "type": "Feature Layer",
   "parentLayerId": -1,
   "geometryType": "esriGeometryPoint"
  },
  {
   "subLayerIds": null,
   "maxScale": 0,
   "name": "Airports",
   "defaultVisibility": true,
   "id": 16,
   "minScale": 0,
   "supportsDynamicLegends": true,
   "type": "Feature Layer",
   "parentLayerId": -1,
   "geometryType": "esriGeometryPoint"
  },
  {
   "subLayerIds": null,
   "maxScale": 0,
   "name": "Recreational Centers",
   "defaultVisibility": true,
   "id": 17,
   "minScale": 10000,
   "supportsDynamicLegends": true,
   "type": "Feature Layer",
   "parentLayerId": -1,
   "geometryType": "esriGeometryPoint"
  },
  {
   "subLayerIds": null,
   "maxScale": 0,
   "name": "School",
   "defaultVisibility": true,
   "id": 18,
   "minScale": 10000,
   "supportsDynamicLegends": true,
   "type": "Feature Layer",
   "parentLayerId": -1,
   "geometryType": "esriGeometryPoint"
  },
  {
   "subLayerIds": null,
   "maxScale": 0,
   "name": "Waterways",
   "defaultVisibility": true,
   "id": 19,
   "minScale": 72223,
   "supportsDynamicLegends": true,
   "type": "Feature Layer",
   "parentLayerId": -1,
   "geometryType": "esriGeometryPolyline"
  },
  {
   "subLayerIds": null,
   "maxScale": 72223,
   "name": "Waterways",
   "defaultVisibility": true,
   "id": 20,
   "minScale": 0,
   "supportsDynamicLegends": true,
   "type": "Feature Layer",
   "parentLayerId": -1,
   "geometryType": "esriGeometryPolyline"
  },
  {
   "subLayerIds": null,
   "maxScale": 0,
   "name": "Lake Michigan",
   "defaultVisibility": true,
   "id": 21,
   "minScale": 0,
   "supportsDynamicLegends": true,
   "type": "Feature Layer",
   "parentLayerId": -1,
   "geometryType": "esriGeometryPolygon"
  },
  {
   "subLayerIds": null,
   "maxScale": 0,
   "name": "Water Bodies",
   "defaultVisibility": true,
   "id": 22,
   "minScale": 0,
   "supportsDynamicLegends": true,
   "type": "Feature Layer",
   "parentLayerId": -1,
   "geometryType": "esriGeometryPolygon"
  },
  {
   "subLayerIds": null,
   "maxScale": 0,
   "name": "Parks",
   "defaultVisibility": true,
   "id": 23,
   "minScale": 0,
   "supportsDynamicLegends": true,
   "type": "Feature Layer",
   "parentLayerId": -1,
   "geometryType": "esriGeometryPolygon"
  },
  {
   "subLayerIds": null,
   "maxScale": 0,
   "name": "Political Townships",
   "defaultVisibility": true,
   "id": 24,
   "minScale": 0,
   "supportsDynamicLegends": true,
   "type": "Feature Layer",
   "parentLayerId": -1,
   "geometryType": "esriGeometryPolygon"
  },
  {
   "subLayerIds": null,
   "maxScale": 0,
   "name": "Sections",
   "defaultVisibility": true,
   "id": 25,
   "minScale": 37000,
   "supportsDynamicLegends": true,
   "type": "Feature Layer",
   "parentLayerId": -1,
   "geometryType": "esriGeometryPolygon"
  },
  {
   "subLayerIds": null,
   "maxScale": 0,
   "name": "City Limits",
   "defaultVisibility": true,
   "id": 26,
   "minScale": 0,
   "supportsDynamicLegends": true,
   "type": "Feature Layer",
   "parentLayerId": -1,
   "geometryType": "esriGeometryPolygon"
  },
  {
   "subLayerIds": null,
   "maxScale": 0,
   "name": "County Boundary",
   "defaultVisibility": true,
   "id": 27,
   "minScale": 0,
   "supportsDynamicLegends": true,
   "type": "Feature Layer",
   "parentLayerId": -1,
   "geometryType": "esriGeometryPolygon"
  }
 ],
 "mapName": "Layers",
 "minScale": 1155580,
 "archivingInfo": {
  "supportsHistoricMoment": false
 },
 "spatialReference": {
  "falseM": -100000,
  "xyTolerance": 0.0032808333333333335,
  "mUnits": 10000,
  "zUnits": 400000,
  "latestWkid": 3435,
  "zTolerance": 0.000020000000000000002,
  "wkid": 102671,
  "xyUnits": 137244822.078465521,
  "mTolerance": 0.001,
  "falseX": -17463800,
  "falseY": -46132600,
  "falseZ": 0
 },
 "tileImageInfo": {
  "bandCount": 1,
  "lercError": 0,
  "format": "PNG32",
  "compressionQuality": 0
 },
 "fullExtent": {
  "ymin": 111619.09375,
  "xmin": -181252.64187499881,
  "ymax": 3800616.8368749991,
  "xmax": 1853597.234375,
  "spatialReference": {
   "falseM": -100000,
   "xyTolerance": 0.0032808333333333335,
   "mUnits": 10000,
   "zUnits": 400000,
   "latestWkid": 3435,
   "zTolerance": 0.000020000000000000002,
   "wkid": 102671,
   "xyUnits": 137244822.078465521,
   "mTolerance": 0.001,
   "falseX": -17463800,
   "falseY": -46132600,
   "falseZ": 0
  }
 },
 "supportedExtensions": "KmlServer",
 "capabilities": "Map,Query,Data",
 "supportsDynamicLayers": true,
 "maxScale": 600,
 "singleFusedMapCache": true,
 "currentVersion": 12.1,
 "storageInfo": {
  "storageFormat": "esriMapCacheStorageModeCompactV2",
  "packetSize": 128
 },
 "resampling": false,
 "hasBranchVersionedData": false,
 "mapUnits": {
  "uwkid": 9003
 },
 "referenceScale": 0,
 "supportsSpatialFilter": true,
 "maxLOD": 12,
 "minLOD": 0,
 "supportedQueryFormats": "JSON, geoJSON, PBF",
 "datumTransformations": [
  {
   "geoTransforms": [
    {
     "latestWkid": 1241,
     "transformForward": true,
     "wkid": 108001,
     "name": "NAD_1927_To_NAD_1983_NADCON"
    }
   ]
  },
  {
   "geoTransforms": [
    {
     "latestWkid": 1241,
     "transformForward": false,
     "wkid": 108001,
     "name": "NAD_1927_To_NAD_1983_NADCON"
    }
   ]
  }
 ],
 "initialExtent": {
  "ymin": 2097517.40424527,
  "xmin": 835503.97055140208,
  "ymax": 2127333.2597016287,
  "xmax": 1072336.7315058843,
  "spatialReference": {
   "falseM": -100000,
   "xyTolerance": 0.0032808333333333335,
   "mUnits": 10000,
   "zUnits": 400000,
   "latestWkid": 3435,
   "zTolerance": 0.000020000000000000002,
   "wkid": 102671,
   "xyUnits": 137244822.078465521,
   "mTolerance": 0.001,
   "falseX": -17463800,
   "falseY": -46132600,
   "falseZ": 0
  }
 },
 "serviceDescription": "This is the dynamic basemap for the planning application.",
 "copyrightText": "",
 "supportsTimeRelation": true
}
