{
 "documentInfo": {
  "Category": "",
  "Keywords": "",
  "Version": "10.1",
  "Comments": "",
  "AntialiasingMode": "None",
  "Title": "mchenry_roadcenterlines",
  "Author": "Angie",
  "TextAntialiasingMode": "Force",
  "Subject": ""
 },
 "maxImageWidth": 4096,
 "wmtsScaleFactor": 0.00091863333333344881,
 "maxRecordCount": 1000,
 "tileInfo": {
  "lods": [
   {
    "level": 0,
    "scale": 577790,
    "resolution": 501.5538194444444
   },
   {
    "level": 1,
    "scale": 288895,
    "resolution": 250.7769097222222
   },
   {
    "level": 2,
    "scale": 144447,
    "resolution": 125.38802083333333
   },
   {
    "level": 3,
    "scale": 72223,
    "resolution": 62.693576388888886
   },
   {
    "level": 4,
    "scale": 36111,
    "resolution": 31.346354166666664
   },
   {
    "level": 5,
    "scale": 18055,
    "resolution": 15.672743055555555
   },
   {
    "level": 6,
    "scale": 9027,
    "resolution": 7.8359375
   },
   {
    "level": 7,
    "scale": 4513,
    "resolution": 3.9175347222222219
   },
   {
    "level": 8,
    "scale": 2256,
    "resolution": 1.9583333333333333
   },
   {
    "level": 9,
    "scale": 1128,
    "resolution": 0.97916666666666663
   },
   {
    "level": 10,
    "scale": 600,
    "resolution": 0.52083333333333326
   }
  ],
  "origin": {
   "x": 707901.31799999997,
   "y": 2250741.8139999998
  },
  "format": "PNG32",
  "compressionQuality": 0,
  "rows": 256,
  "dpi": 96,
  "spatialReference": {
   "falseM": -100000,
   "xyTolerance": 0.0032808333333333335,
   "mUnits": 10000,
   "zUnits": 1,
   "latestWkid": 3435,
   "zTolerance": 2,
   "wkid": 102671,
   "xyUnits": 137244822.078465521,
   "mTolerance": 0.001,
   "falseX": -17463800,
   "falseY": -46132600,
   "falseZ": 0
  },
  "cols": 256
 },
 "description": "",
 "datesInUnknownTimezone": false,
 "supportsQueryDomains": true,
 "units": "esriFeet",
 "maxSelectionCount": 2000,
 "supportedImageFormatTypes": "PNG32,PNG24,PNG,JPG,DIB,TIFF,EMF,PS,PDF,GIF,SVG,SVGZ,BMP",
 "supportsClipping": true,
 "exportTilesAllowed": false,
 "maxImageHeight": 4096,
 "tables": [],
 "hasVersionedData": true,
 "supportsDatumTransformation": true,
 "cimVersion": "3.7.0",
 "supportsQueryDataElements": true,
 "layers": [
  {
   "subLayerIds": null,
   "maxScale": 73000,
   "name": "Major Highways",
   "defaultVisibility": true,
   "id": 0,
   "minScale": 0,
   "supportsDynamicLegends": true,
   "type": "Feature Layer",
   "parentLayerId": -1,
   "geometryType": "esriGeometryPolyline"
  },
  {
   "subLayerIds": null,
   "maxScale": 73000,
   "name": "Major Roads",
   "defaultVisibility": true,
   "id": 1,
   "minScale": 0,
   "supportsDynamicLegends": true,
   "type": "Feature Layer",
   "parentLayerId": -1,
   "geometryType": "esriGeometryPolyline"
  },
  {
   "subLayerIds": null,
   "maxScale": 36071,
   "name": "CenterLines",
   "defaultVisibility": true,
   "id": 2,
   "minScale": 73000,
   "supportsDynamicLegends": true,
   "type": "Feature Layer",
   "parentLayerId": -1,
   "geometryType": "esriGeometryPolyline"
  },
  {
   "subLayerIds": null,
   "maxScale": 0,
   "name": "Centerlines",
   "defaultVisibility": true,
   "id": 3,
   "minScale": 36071,
   "supportsDynamicLegends": true,
   "type": "Feature Layer",
   "parentLayerId": -1,
   "geometryType": "esriGeometryPolyline"
  }
 ],
 "mapName": "Layers",
 "minScale": 577790,
 "archivingInfo": {
  "supportsHistoricMoment": false
 },
 "spatialReference": {
  "falseM": -100000,
  "xyTolerance": 0.0032808333333333335,
  "mUnits": 10000,
  "zUnits": 1,
  "latestWkid": 3435,
  "zTolerance": 2,
  "wkid": 102671,
  "xyUnits": 137244822.078465521,
  "mTolerance": 0.001,
  "falseX": -17463800,
  "falseY": -46132600,
  "falseZ": 0
 },
 "tileImageInfo": {
  "bandCount": 1,
  "lercError": 0,
  "format": "PNG32",
  "compressionQuality": 0
 },
 "fullExtent": {
  "ymin": 114463.95875000209,
  "xmin": -177368.55124999955,
  "ymax": 3739573.34375,
  "xmax": 1333100.3425000012,
  "spatialReference": {
   "falseM": -100000,
   "xyTolerance": 0.0032808333333333335,
   "mUnits": 10000,
   "zUnits": 1,
   "latestWkid": 3435,
   "zTolerance": 2,
   "wkid": 102671,
   "xyUnits": 137244822.078465521,
   "mTolerance": 0.001,
   "falseX": -17463800,
   "falseY": -46132600,
   "falseZ": 0
  }
 },
 "supportedExtensions": "KmlServer",
 "capabilities": "Map,Query,Data",
 "supportsDynamicLayers": true,
 "maxScale": 600,
 "singleFusedMapCache": true,
 "currentVersion": 12.1,
 "storageInfo": {
  "storageFormat": "esriMapCacheStorageModeCompactV2",
  "packetSize": 128
 },
 "resampling": false,
 "hasBranchVersionedData": false,
 "mapUnits": {
  "uwkid": 9003
 },
 "referenceScale": 0,
 "supportsSpatialFilter": true,
 "supportedQueryFormats": "JSON, geoJSON, PBF",
 "datumTransformations": [
  {
   "geoTransforms": [
    {
     "latestWkid": 1241,
     "transformForward": true,
     "wkid": 108001,
     "name": "NAD_1927_To_NAD_1983_NADCON"
    }
   ]
  },
  {
   "geoTransforms": [
    {
     "latestWkid": 1241,
     "transformForward": false,
     "wkid": 108001,
     "name": "NAD_1927_To_NAD_1983_NADCON"
    }
   ]
  }
 ],
 "initialExtent": {
  "ymin": 1952768.6194013334,
  "xmin": 825862.78614659165,
  "ymax": 2065048.3119580899,
  "xmax": 1021235.4076777122,
  "spatialReference": {
   "falseM": -100000,
   "xyTolerance": 0.0032808333333333335,
   "mUnits": 10000,
   "zUnits": 1,
   "latestWkid": 3435,
   "zTolerance": 2,
   "wkid": 102671,
   "xyUnits": 137244822.078465521,
   "mTolerance": 0.001,
   "falseX": -17463800,
   "falseY": -46132600,
   "falseZ": 0
  }
 },
 "serviceDescription": "",
 "copyrightText": "",
 "supportsTimeRelation": true
}
