{
 "documentInfo": {
  "Category": "",
  "Keywords": "contour2017",
  "Version": "10.1",
  "Comments": "McHenry County 2017 Contour",
  "AntialiasingMode": "None",
  "Title": "",
  "Author": "",
  "TextAntialiasingMode": "Force",
  "Subject": "McHenry County 2017 Contour"
 },
 "maxImageWidth": 4096,
 "wmtsScaleFactor": 0.00091863333333344881,
 "maxRecordCount": 1000,
 "tileInfo": {
  "lods": [
   {
    "level": 0,
    "scale": 577790,
    "resolution": 501.5538194444444
   },
   {
    "level": 1,
    "scale": 288895,
    "resolution": 250.7769097222222
   },
   {
    "level": 2,
    "scale": 144447,
    "resolution": 125.38802083333333
   },
   {
    "level": 3,
    "scale": 72223,
    "resolution": 62.693576388888886
   },
   {
    "level": 4,
    "scale": 36111,
    "resolution": 31.346354166666664
   },
   {
    "level": 5,
    "scale": 18055,
    "resolution": 15.672743055555555
   },
   {
    "level": 6,
    "scale": 9027,
    "resolution": 7.8359375
   },
   {
    "level": 7,
    "scale": 4513,
    "resolution": 3.9175347222222219
   },
   {
    "level": 8,
    "scale": 2256,
    "resolution": 1.9583333333333333
   },
   {
    "level": 9,
    "scale": 1128,
    "resolution": 0.97916666666666663
   },
   {
    "level": 10,
    "scale": 600,
    "resolution": 0.52083333333333326
   }
  ],
  "origin": {
   "x": -17463800,
   "y": 19496100
  },
  "format": "PNG8",
  "compressionQuality": 0,
  "rows": 256,
  "dpi": 96,
  "spatialReference": {
   "falseM": -100000,
   "xyTolerance": 0.0032808333333333335,
   "mUnits": 10000,
   "zUnits": 10000,
   "latestWkid": 3435,
   "zTolerance": 0.001,
   "wkid": 102671,
   "xyUnits": 137244822.078465521,
   "mTolerance": 0.001,
   "falseX": -17463800,
   "falseY": -46132600,
   "falseZ": -100000
  },
  "cols": 256
 },
 "description": "",
 "datesInUnknownTimezone": false,
 "supportsQueryDomains": true,
 "units": "esriFeet",
 "maxSelectionCount": 2000,
 "supportedImageFormatTypes": "PNG32,PNG24,PNG,JPG,DIB,TIFF,EMF,PS,PDF,GIF,SVG,SVGZ,BMP",
 "supportsClipping": true,
 "exportTilesAllowed": false,
 "maxImageHeight": 4096,
 "tables": [],
 "hasVersionedData": false,
 "supportsDatumTransformation": true,
 "cimVersion": "3.7.0",
 "supportsQueryDataElements": true,
 "layers": [
  {
   "subLayerIds": null,
   "maxScale": 0,
   "name": "Contours 5 ft",
   "defaultVisibility": true,
   "id": 0,
   "minScale": 10000,
   "supportsDynamicLegends": true,
   "type": "Feature Layer",
   "parentLayerId": -1,
   "geometryType": "esriGeometryPolyline"
  },
  {
   "subLayerIds": null,
   "maxScale": 0,
   "name": "Contours 1 ft",
   "defaultVisibility": true,
   "id": 1,
   "minScale": 1200,
   "supportsDynamicLegends": true,
   "type": "Feature Layer",
   "parentLayerId": -1,
   "geometryType": "esriGeometryPolyline"
  }
 ],
 "mapName": "Layers",
 "minScale": 18055,
 "archivingInfo": {
  "supportsHistoricMoment": false
 },
 "spatialReference": {
  "falseM": -100000,
  "xyTolerance": 0.0032808333333333331,
  "mUnits": 10000,
  "zUnits": 10000,
  "latestWkid": 3435,
  "zTolerance": 0.001,
  "wkid": 102671,
  "xyUnits": 137244822.078465521,
  "mTolerance": 0.001,
  "falseX": -17463800,
  "falseY": -46132600,
  "falseZ": -100000
 },
 "tileImageInfo": {
  "bandCount": 1,
  "lercError": 0,
  "format": "PNG8",
  "compressionQuality": 0
 },
 "fullExtent": {
  "ymin": 1998600.7242826512,
  "zmin": 0.00013083333033137023,
  "xmin": 883295.39366232895,
  "ymax": 2123130.2714829091,
  "zmax": 1191.0000454166584,
  "xmax": 1020829.5303389139,
  "mmax": null,
  "mmin": null,
  "spatialReference": {
   "falseM": -100000,
   "xyTolerance": 0.0032808333333333331,
   "mUnits": 10000,
   "zUnits": 10000,
   "latestWkid": 3435,
   "zTolerance": 0.001,
   "wkid": 102671,
   "xyUnits": 137244822.078465521,
   "mTolerance": 0.001,
   "falseX": -17463800,
   "falseY": -46132600,
   "falseZ": -100000
  }
 },
 "supportedExtensions": "KmlServer",
 "capabilities": "Map,Query,Data",
 "supportsDynamicLayers": true,
 "maxScale": 600,
 "singleFusedMapCache": true,
 "currentVersion": 12.1,
 "storageInfo": {
  "storageFormat": "esriMapCacheStorageModeCompactV2",
  "packetSize": 128
 },
 "resampling": false,
 "hasBranchVersionedData": false,
 "mapUnits": {
  "uwkid": 9003
 },
 "referenceScale": 0,
 "supportsSpatialFilter": true,
 "supportedQueryFormats": "JSON, geoJSON, PBF",
 "initialExtent": {
  "ymin": 2035466.0777582512,
  "xmin": 988215.76425219711,
  "ymax": 2035520.4180360292,
  "xmax": 988433.64619664161,
  "spatialReference": {
   "falseM": -100000,
   "xyTolerance": 0.0032808333333333331,
   "mUnits": 10000,
   "zUnits": 10000,
   "latestWkid": 3435,
   "zTolerance": 0.001,
   "wkid": 102671,
   "xyUnits": 137244822.078465521,
   "mTolerance": 0.001,
   "falseX": -17463800,
   "falseY": -46132600,
   "falseZ": -100000
  }
 },
 "serviceDescription": "McHenry County 2017 Contour",
 "copyrightText": "",
 "supportsTimeRelation": true
}
