{
 "currentVersion": 10.91,
 "cimVersion": "2.9.0",
 "serviceDescription": "",
 "mapName": "Layers",
 "description": "",
 "copyrightText": "",
 "supportsDynamicLayers": true,
 "layers": [
  {
   "id": 0,
   "name": "Lake Michigan",
   "parentLayerId": -1,
   "defaultVisibility": true,
   "subLayerIds": null,
   "minScale": 0,
   "maxScale": 0,
   "type": "Feature Layer",
   "geometryType": "esriGeometryPolygon",
   "supportsDynamicLegends": true
  },
  {
   "id": 1,
   "name": "County Boundary",
   "parentLayerId": -1,
   "defaultVisibility": true,
   "subLayerIds": null,
   "minScale": 0,
   "maxScale": 0,
   "type": "Feature Layer",
   "geometryType": "esriGeometryPolygon",
   "supportsDynamicLegends": true
  }
 ],
 "tables": [],
 "spatialReference": {
  "wkid": 102671,
  "latestWkid": 3435,
  "xyTolerance": 0.0032808333333333335,
  "zTolerance": 2.0E-5,
  "mTolerance": 0.001,
  "falseX": -17463800,
  "falseY": -46132600,
  "xyUnits": 1.3724482207846552E8,
  "falseZ": 0,
  "zUnits": 400000,
  "falseM": -100000,
  "mUnits": 10000
 },
 "singleFusedMapCache": true,
 "tileInfo": {
  "rows": 256,
  "cols": 256,
  "dpi": 96,
  "format": "PNG32",
  "compressionQuality": 0,
  "origin": {
   "x": -17463800,
   "y": 19496100
  },
  "spatialReference": {
   "wkid": 102671,
   "latestWkid": 3435,
   "xyTolerance": 0.0032808333333333335,
   "zTolerance": 2,
   "mTolerance": 2,
   "falseX": -17463800,
   "falseY": -46132600,
   "xyUnits": 1.3724482207846552E8,
   "falseZ": 0,
   "zUnits": 8192,
   "falseM": -100000,
   "mUnits": 10000
  },
  "lods": [
   {
    "level": 0,
    "resolution": 501.5538194444444,
    "scale": 577790
   },
   {
    "level": 1,
    "resolution": 250.7769097222222,
    "scale": 288895
   },
   {
    "level": 2,
    "resolution": 125.38802083333333,
    "scale": 144447
   },
   {
    "level": 3,
    "resolution": 62.693576388888886,
    "scale": 72223
   },
   {
    "level": 4,
    "resolution": 31.346354166666664,
    "scale": 36111
   },
   {
    "level": 5,
    "resolution": 15.672743055555555,
    "scale": 18055
   },
   {
    "level": 6,
    "resolution": 7.8359375,
    "scale": 9027
   },
   {
    "level": 7,
    "resolution": 3.917534722222222,
    "scale": 4513
   },
   {
    "level": 8,
    "resolution": 1.9583333333333333,
    "scale": 2256
   },
   {
    "level": 9,
    "resolution": 0.9791666666666666,
    "scale": 1128
   },
   {
    "level": 10,
    "resolution": 0.5208333333333333,
    "scale": 600
   }
  ]
 },
 "storageInfo": {
  "storageFormat": "esriMapCacheStorageModeCompactV2",
  "packetSize": 128
 },
 "initialExtent": {
  "xmin": 742868.9497333476,
  "ymin": 2048218.4385893594,
  "xmax": 1178632.8386222366,
  "ymax": 2183635.105256026,
  "spatialReference": {
   "wkid": 102671,
   "latestWkid": 3435,
   "xyTolerance": 0.0032808333333333335,
   "zTolerance": 2.0E-5,
   "mTolerance": 0.001,
   "falseX": -17463800,
   "falseY": -46132600,
   "xyUnits": 1.3724482207846552E8,
   "falseZ": 0,
   "zUnits": 400000,
   "falseM": -100000,
   "mUnits": 10000
  }
 },
 "fullExtent": {
  "xmin": 688998.5788368507,
  "ymin": 1881277.410886528,
  "xmax": 1230634.778997953,
  "ymax": 2232806.1117092185,
  "spatialReference": {
   "wkid": 102671,
   "latestWkid": 3435,
   "xyTolerance": 0.0032808333333333335,
   "zTolerance": 2.0E-5,
   "mTolerance": 0.001,
   "falseX": -17463800,
   "falseY": -46132600,
   "xyUnits": 1.3724482207846552E8,
   "falseZ": 0,
   "zUnits": 400000,
   "falseM": -100000,
   "mUnits": 10000
  }
 },
 "datesInUnknownTimezone": false,
 "minScale": 577790,
 "maxScale": 600,
 "minLOD": 0,
 "maxLOD": 10,
 "units": "esriFeet",
 "supportedImageFormatTypes": "PNG32,PNG24,PNG,JPG,DIB,TIFF,EMF,PS,PDF,GIF,SVG,SVGZ,BMP",
 "documentInfo": {
  "Title": "mchenry_base",
  "Author": "Angie",
  "Comments": "",
  "Subject": "",
  "Category": "",
  "AntialiasingMode": "None",
  "TextAntialiasingMode": "Force",
  "Version": "10.1",
  "Keywords": ""
 },
 "capabilities": "Map,Query,Data",
 "supportedQueryFormats": "JSON, geoJSON, PBF",
 "hasVersionedData": true,
 "exportTilesAllowed": false,
 "referenceScale": 0.0,
 "datumTransformations": [
  {
   "geoTransforms": [
    {
     "wkid": 108001,
     "latestWkid": 1241,
     "transformForward": true,
     "name": "NAD_1927_To_NAD_1983_NADCON"
    }
   ]
  },
  {
   "geoTransforms": [
    {
     "wkid": 108001,
     "latestWkid": 1241,
     "transformForward": false,
     "name": "NAD_1927_To_NAD_1983_NADCON"
    }
   ]
  }
 ],
 "supportsDatumTransformation": true,
 "archivingInfo": {
  "supportsHistoricMoment": false
 },
 "supportsClipping": true,
 "supportsSpatialFilter": true,
 "supportsTimeRelation": true,
 "supportsQueryDataElements": true,
 "maxRecordCount": 1000,
 "maxImageHeight": 4096,
 "maxImageWidth": 4096,
 "supportedExtensions": "KmlServer",
 "resampling": false
}
